BEGIN:VCALENDAR
PRODID:-//District of Kansas//NONSGML v1.0//EN
VERSION:2.0
CALSCALE:GREGORIAN
METHOD:PUBLISH
X-WR-CALNAME:District of Kansas
BEGIN:VEVENT
UID:2575@ksd.uscourts.gov
SUMMARY:Naturalization Ceremony
LOCATION:Wichita 
CLASS:PUBLIC
DESCRIPTION:See http://ksd.uscourts.gov/ksd_calendar/main/event/2575.
URL:http://ksd.uscourts.gov/ksd_calendar/main/event/2575
DTSTAMP:20210715T060856Z
DTSTART:20181214T170000Z
DTEND:20181214T180000Z
RRULE:FREQ=DAILY;UNTIL=20181214T180000Z
END:VEVENT
END:VCALENDAR
