BEGIN:VCALENDAR
PRODID:-//District of Kansas//NONSGML v1.0//EN
VERSION:2.0
CALSCALE:GREGORIAN
METHOD:PUBLISH
X-WR-CALNAME:District of Kansas
BEGIN:VEVENT
UID:2650@ksd.uscourts.gov
SUMMARY:Naturalization Ceremony
LOCATION:Kansas City Courtroom 655
CLASS:PUBLIC
DESCRIPTION:See http://ksd.uscourts.gov/ksd_calendar/main/event/2650.
URL:http://ksd.uscourts.gov/ksd_calendar/main/event/2650
DTSTAMP:20210715T060859Z
DTSTART:20181116T163000Z
DTEND:20181116T180000Z
RRULE:FREQ=DAILY;UNTIL=20181116T180000Z
END:VEVENT
END:VCALENDAR
