BEGIN:VCALENDAR
PRODID:-//District of Kansas//NONSGML v1.0//EN
VERSION:2.0
CALSCALE:GREGORIAN
METHOD:PUBLISH
X-WR-CALNAME:District of Kansas
BEGIN:VEVENT
UID:2671@ksd.uscourts.gov
SUMMARY:Federal Holiday - Court Closed
LOCATION:All Locations 
CLASS:PUBLIC
DESCRIPTION:See http://ksd.uscourts.gov/ksd_calendar/main/event/2671.
URL:http://ksd.uscourts.gov/ksd_calendar/main/event/2671
DTSTAMP:20210715T060858Z
DTSTART:20181112T140000Z
DTEND:20181112T230000Z
RRULE:FREQ=DAILY;UNTIL=20181112T230000Z
END:VEVENT
END:VCALENDAR
